BEGIN:VCALENDAR
VERSION:2.0
PRODID:icalendar-ruby
CALSCALE:GREGORIAN
METHOD:PUBLISH
BEGIN:VEVENT
DTSTAMP:20260420T191443Z
UID:24-413566@carverchurchlosangeles.com
DTSTART:20261012T160000Z
DTEND:20261016T161500Z
CLASS:PUBLIC
CREATED:20260420T113552
DESCRIPTION:Access Code: 809445
LAST-MODIFIED:20260420T113552
LOCATION:(605) 475-4800
SUMMARY:Conference Prayer Call
URL;VALUE=URI:https://carverchurchlosangeles.com/events/conference-prayer-c
 all/2026-10-12
ATTACH;FILENAME=1000082534.jpg;FMTTYPE=image/jpeg:https://dq5pwpg1q8ru0.clo
 udfront.net/2024/03/17/05/38/33/0fe50a44-5df0-408c-a285-5d0a9d1eeb95/10000
 82534.jpg
END:VEVENT
END:VCALENDAR
